OziExplorer Map Data File Version 2.2
Ukl-7.jpg
C:\OziExplorer\Maps\Òóëà\Ukl-7.jpg
1 ,Map Code,
WGS 84,WGS 84, 0.0000, 0.0000,WGS 84
Reserved 1
Reserved 2
Magnetic Variation,9,,E
Map Projection,Latitude/Longitude,PolyCal,No,AutoCalOnly,No,BSBUseWPX,No
Point01,xy, 5439, 1524,in, deg, 54, 0.0000,N, 37, 00.0000,E, grid, , , ,N
Point02,xy, 6968, 1563,in, deg, 54, 0.0000,N, 37, 30.0000,E, grid, , , ,N
Point03,xy,10036, 1606,in, deg, 54, 0.0000,N, 38, 30.0000,E, grid, , , ,N
Point04,xy, 689, 3931,in, deg, 53, 30,N, 35, 30,E, grid, , , ,N
Point05,xy, 8506, 1592,in, deg, 54, 00,N, 38, 00,E, grid, , , ,N
Point06,xy,14679, 4196,in, deg, 53, 30.0000,N, 40, 0.0000,E, grid, , , ,N
Point07,xy, 534, 6510,in, deg, 53, 0.0000,N, 35, 30.0000,E, grid, , , ,N
Point08,xy,11582, 4223,in, deg, 53, 30.0000,N, 39, 0.0000,E, grid, , , ,N
Point09,xy, 3794, 4069,in, deg, 53, 30.0000,N, 36, 30.0000,E, grid, , , ,N
Point10,xy, , ,in, deg, , ,, , ,, grid, , , ,
Point11,xy, , ,in, deg, , ,, , ,, grid, , , ,
Point12,xy, , ,in, deg, , ,, , ,, grid, , , ,
Point13,xy, , ,in, deg, , ,, , ,, grid, , , ,
Point14,xy, , ,in, deg, , ,, , ,, grid, , , ,
Point15,xy, , ,in, deg, , ,, , ,, grid, , , ,
Point16,xy, , ,in, deg, , ,, , ,, grid, , , ,
Point17,xy, , ,in, deg, , ,, , ,, grid, , , ,
Point18,xy, , ,in, deg, , ,, , ,, grid, , , ,
Point19,xy, , ,in, deg, , ,, , ,, grid, , , ,
Point20,xy, , ,in, deg, , ,, , ,, grid, , , ,
Point21,xy, , ,in, deg, , ,, , ,, grid, , , ,
Point22,xy, , ,in, deg, , ,, , ,, grid, , , ,
Point23,xy, , ,in, deg, , ,, , ,, grid, , , ,
Point24,xy, , ,in, deg, , ,, , ,, grid, , , ,
Point25,xy, , ,in, deg, , ,, , ,, grid, , , ,
Point26,xy, , ,in, deg, , ,, , ,, grid, , , ,
Point27,xy, , ,in, deg, , ,, , ,, grid, , , ,
Point28,xy, , ,in, deg, , ,, , ,, grid, , , ,
Point29,xy, , ,in, deg, , ,, , ,, grid, , , ,
Point30,xy, , ,in, deg, , ,, , ,, grid, , , ,
Projection Setup,,,,,,,,,,
Map Feature = MF ; Map Comment = MC These follow if they exist
Track File = TF These follow if they exist
Moving Map Parameters = MM? These follow if they exist
MM0,Yes
MMPNUM,4
MMPXY,1,0,0
MMPXY,2,14942,0
MMPXY,3,14942,6636
MMPXY,4,0,6636
MMPLL,1, 35.246212, 54.280769
MMPLL,2, 40.042851, 54.336449
MMPLL,3, 40.112849, 53.028329
MMPLL,4, 35.316210, 52.972648
MM1B,21.236728
LL Grid Setup
LLGRID,Yes,30 Min,Yes,255,16711680,0,30 Min,0,16777215,15,1,Yes,x
MOP,Map Open Position,0,0
IWH,Map Image Width/Height,14942,6636
